Workbook

Sheet Members
A1: Name | B1: Date of birth | C1: Gender | D1: Contact person name | E1: Contact person email | F1: Contact person phone | G1: Group | H1: Joined | I1: Monthly fee | J1: Active | K1: Notes
A2: Oliver Bennett | B2: 2014-03-21 | C2: Male | D2: Sarah Bennett | E2: sarah.bennett@example.com | F2: +44 7700 900101 | G2: Under 12 | H2: 45901 | I2: 30 | J2: Yes
A3: Amelia Clarke | B3: 2013-11-05 | C3: Female | D3: James Clarke | E3: james.clarke@example.com | F3: +44 7700 900102 | G3: Under 12 | H3: 45901 | I3: 30 | J3: Yes
A4: Noah Patel | B4: 2010-07-14 | C4: Male | D4: Priya Patel | E4: priya.patel@example.com | F4: +44 7700 900103 | G4: Under 16 | H4: 45537 | I4: 35 | J4: Yes
A5: Isla Thompson | B5: 2011-01-30 | C5: Female | D5: Mark Thompson | E5: mark.thompson@example.com | F5: +44 7700 900104 | G5: Under 16 | H5: 46125 | I5: 35 | J5: Yes | K5: Joined after Easter
A6: George Wright | B6: 1988-06-09 | C6: Male | D6: George Wright | E6: george.wright@example.com | F6: +44 7700 900105 | G6: Adults | H6: 44935 | I6: 40 | J6: Yes
A7: Emily Foster | B7: 1992-12-17 | C7: Female | D7: Emily Foster | E7: emily.foster@example.com | F7: +44 7700 900106 | G7: Adults | H7: 45355 | I7: 40 | J7: No | K7: Left in June

Sheet Payments
A1: Year | B1: 2026 | C1: Type what each member paid under each month. Green is paid, amber is pending, red is overdue.
C2: =DATE($B$1,1,1) | D2: =DATE($B$1,2,1) | E2: =DATE($B$1,3,1) | F2: =DATE($B$1,4,1) | G2: =DATE($B$1,5,1) | H2: =DATE($B$1,6,1) | I2: =DATE($B$1,7,1) | J2: =DATE($B$1,8,1) | K2: =DATE($B$1,9,1) | L2: =DATE($B$1,10,1) | M2: =DATE($B$1,11,1) | N2: =DATE($B$1,12,1)
C3: =DATE($B$1,2,0) | D3: =DATE($B$1,3,0) | E3: =DATE($B$1,4,0) | F3: =DATE($B$1,5,0) | G3: =DATE($B$1,6,0) | H3: =DATE($B$1,7,0) | I3: =DATE($B$1,8,0) | J3: =DATE($B$1,9,0) | K3: =DATE($B$1,10,0) | L3: =DATE($B$1,11,0) | M3: =DATE($B$1,12,0) | N3: =DATE($B$1,13,0)
A4: Member | B4: Monthly fee | C4: Jan | D4: Feb | E4: Mar | F4: Apr | G4: May | H4: Jun | I4: Jul | J4: Aug | K4: Sep | L4: Oct | M4: Nov | N4: Dec | O4: Paid | P4: Outstanding | Q4: Status | R4: Joined (helper) | S4: Active (helper) | T4: Overdue amount (helper) | U4: Due this month (helper) | V4: Paid this month (helper) | W4: Overdue rank (helper)
A5: Oliver Bennett | B5: =IF($A5="","",IFERROR(INDEX(Members!$I$2:$I$251,MATCH($A5,Members!$A$2:$A$251,0)),"")) | C5: 30 | D5: 30 | E5: 30 | F5: 30 | G5: 30 | H5: 30 | I5: 30 | J5: 30 | K5: 30 | L5: 30 | O5: =IF($A5="","",SUM($C5:$N5)) | P5: =IF($A5="","",IF(OR(NOT(ISNUMBER($B5)),$S5="No"),0,SUMPRODUCT(($C$2:$N$2<=TODAY())*((($R5="")+($R5<=$C$3:$N$3))>0)*(($B5-$C5:$N5)>0)*($B5-$C5:$N5)))) | Q5: =IF($A5="","",IF(NOT(ISNUMBER($B5)),"Check name",IF($S5="No","Inactive",IF($P5=0,"Paid",IF($T5>0,"Overdue","Pending"))))) | R5: =IF($A5="","",IFERROR(IF(INDEX(Members!$H$2:$H$251,MATCH($A5,Members!$A$2:$A$251,0))="","",INDEX(Members!$H$2:$H$251,MATCH($A5,Members!$A$2:$A$251,0))),"")) | S5: =IF($A5="","",IFERROR(IF(INDEX(Members!$J$2:$J$251,MATCH($A5,Members!$A$2:$A$251,0))="No","No","Yes"),"Yes")) | T5: =IF($A5="","",IF(OR(NOT(ISNUMBER($B5)),$S5="No"),0,SUMPRODUCT(($C$3:$N$3<TODAY())*((($R5="")+($R5<=$C$3:$N$3))>0)*(($B5-$C5:$N5)>0)*($B5-$C5:$N5)))) | U5: =IF(OR($A5="",NOT(ISNUMBER($B5)),$S5="No",$B$1<>YEAR(TODAY())),0,IF(OR($R5="",$R5<=INDEX($C$3:$N$3,MONTH(TODAY()))),$B5,0)) | V5: =IF(OR($A5="",$B$1<>YEAR(TODAY())),0,N(INDEX($C5:$N5,MONTH(TODAY())))) | W5: =IF($Q5="Overdue",COUNTIF($Q$5:$Q5,"Overdue"),"")
A6: Amelia Clarke | B6: =IF($A6="","",IFERROR(INDEX(Members!$I$2:$I$251,MATCH($A6,Members!$A$2:$A$251,0)),"")) | C6: 30 | D6: 30 | E6: 30 | F6: 30 | G6: 30 | H6: 30 | I6: 30 | J6: 30 | K6: 30 | O6: =IF($A6="","",SUM($C6:$N6)) | P6: =IF($A6="","",IF(OR(NOT(ISNUMBER($B6)),$S6="No"),0,SUMPRODUCT(($C$2:$N$2<=TODAY())*((($R6="")+($R6<=$C$3:$N$3))>0)*(($B6-$C6:$N6)>0)*($B6-$C6:$N6)))) | Q6: =IF($A6="","",IF(NOT(ISNUMBER($B6)),"Check name",IF($S6="No","Inactive",IF($P6=0,"Paid",IF($T6>0,"Overdue","Pending"))))) | R6: =IF($A6="","",IFERROR(IF(INDEX(Members!$H$2:$H$251,MATCH($A6,Members!$A$2:$A$251,0))="","",INDEX(Members!$H$2:$H$251,MATCH($A6,Members!$A$2:$A$251,0))),"")) | S6: =IF($A6="","",IFERROR(IF(INDEX(Members!$J$2:$J$251,MATCH($A6,Members!$A$2:$A$251,0))="No","No","Yes"),"Yes")) | T6: =IF($A6="","",IF(OR(NOT(ISNUMBER($B6)),$S6="No"),0,SUMPRODUCT(($C$3:$N$3<TODAY())*((($R6="")+($R6<=$C$3:$N$3))>0)*(($B6-$C6:$N6)>0)*($B6-$C6:$N6)))) | U6: =IF(OR($A6="",NOT(ISNUMBER($B6)),$S6="No",$B$1<>YEAR(TODAY())),0,IF(OR($R6="",$R6<=INDEX($C$3:$N$3,MONTH(TODAY()))),$B6,0)) | V6: =IF(OR($A6="",$B$1<>YEAR(TODAY())),0,N(INDEX($C6:$N6,MONTH(TODAY())))) | W6: =IF($Q6="Overdue",COUNTIF($Q$5:$Q6,"Overdue"),"")
A7: Noah Patel | B7: =IF($A7="","",IFERROR(INDEX(Members!$I$2:$I$251,MATCH($A7,Members!$A$2:$A$251,0)),"")) | C7: 35 | D7: 35 | E7: 35 | F7: 35 | G7: 35 | H7: 35 | I7: 35 | O7: =IF($A7="","",SUM($C7:$N7)) | P7: =IF($A7="","",IF(OR(NOT(ISNUMBER($B7)),$S7="No"),0,SUMPRODUCT(($C$2:$N$2<=TODAY())*((($R7="")+($R7<=$C$3:$N$3))>0)*(($B7-$C7:$N7)>0)*($B7-$C7:$N7)))) | Q7: =IF($A7="","",IF(NOT(ISNUMBER($B7)),"Check name",IF($S7="No","Inactive",IF($P7=0,"Paid",IF($T7>0,"Overdue","Pending"))))) | R7: =IF($A7="","",IFERROR(IF(INDEX(Members!$H$2:$H$251,MATCH($A7,Members!$A$2:$A$251,0))="","",INDEX(Members!$H$2:$H$251,MATCH($A7,Members!$A$2:$A$251,0))),"")) | S7: =IF($A7="","",IFERROR(IF(INDEX(Members!$J$2:$J$251,MATCH($A7,Members!$A$2:$A$251,0))="No","No","Yes"),"Yes")) | T7: =IF($A7="","",IF(OR(NOT(ISNUMBER($B7)),$S7="No"),0,SUMPRODUCT(($C$3:$N$3<TODAY())*((($R7="")+($R7<=$C$3:$N$3))>0)*(($B7-$C7:$N7)>0)*($B7-$C7:$N7)))) | U7: =IF(OR($A7="",NOT(ISNUMBER($B7)),$S7="No",$B$1<>YEAR(TODAY())),0,IF(OR($R7="",$R7<=INDEX($C$3:$N$3,MONTH(TODAY()))),$B7,0)) | V7: =IF(OR($A7="",$B$1<>YEAR(TODAY())),0,N(INDEX($C7:$N7,MONTH(TODAY())))) | W7: =IF($Q7="Overdue",COUNTIF($Q$5:$Q7,"Overdue"),"")
A8: Isla Thompson | B8: =IF($A8="","",IFERROR(INDEX(Members!$I$2:$I$251,MATCH($A8,Members!$A$2:$A$251,0)),"")) | F8: 35 | G8: 35 | H8: 35 | I8: 35 | J8: 35 | K8: 35 | O8: =IF($A8="","",SUM($C8:$N8)) | P8: =IF($A8="","",IF(OR(NOT(ISNUMBER($B8)),$S8="No"),0,SUMPRODUCT(($C$2:$N$2<=TODAY())*((($R8="")+($R8<=$C$3:$N$3))>0)*(($B8-$C8:$N8)>0)*($B8-$C8:$N8)))) | Q8: =IF($A8="","",IF(NOT(ISNUMBER($B8)),"Check name",IF($S8="No","Inactive",IF($P8=0,"Paid",IF($T8>0,"Overdue","Pending"))))) | R8: =IF($A8="","",IFERROR(IF(INDEX(Members!$H$2:$H$251,MATCH($A8,Members!$A$2:$A$251,0))="","",INDEX(Members!$H$2:$H$251,MATCH($A8,Members!$A$2:$A$251,0))),"")) | S8: =IF($A8="","",IFERROR(IF(INDEX(Members!$J$2:$J$251,MATCH($A8,Members!$A$2:$A$251,0))="No","No","Yes"),"Yes")) | T8: =IF($A8="","",IF(OR(NOT(ISNUMBER($B8)),$S8="No"),0,SUMPRODUCT(($C$3:$N$3<TODAY())*((($R8="")+($R8<=$C$3:$N$3))>0)*(($B8-$C8:$N8)>0)*($B8-$C8:$N8)))) | U8: =IF(OR($A8="",NOT(ISNUMBER($B8)),$S8="No",$B$1<>YEAR(TODAY())),0,IF(OR($R8="",$R8<=INDEX($C$3:$N$3,MONTH(TODAY()))),$B8,0)) | V8: =IF(OR($A8="",$B$1<>YEAR(TODAY())),0,N(INDEX($C8:$N8,MONTH(TODAY())))) | W8: =IF($Q8="Overdue",COUNTIF($Q$5:$Q8,"Overdue"),"")
A9: George Wright | B9: =IF($A9="","",IFERROR(INDEX(Members!$I$2:$I$251,MATCH($A9,Members!$A$2:$A$251,0)),"")) | C9: 40 | D9: 40 | E9: 40 | F9: 40 | G9: 40 | H9: 40 | I9: 40 | J9: 40 | K9: 20 | O9: =IF($A9="","",SUM($C9:$N9)) | P9: =IF($A9="","",IF(OR(NOT(ISNUMBER($B9)),$S9="No"),0,SUMPRODUCT(($C$2:$N$2<=TODAY())*((($R9="")+($R9<=$C$3:$N$3))>0)*(($B9-$C9:$N9)>0)*($B9-$C9:$N9)))) | Q9: =IF($A9="","",IF(NOT(ISNUMBER($B9)),"Check name",IF($S9="No","Inactive",IF($P9=0,"Paid",IF($T9>0,"Overdue","Pending"))))) | R9: =IF($A9="","",IFERROR(IF(INDEX(Members!$H$2:$H$251,MATCH($A9,Members!$A$2:$A$251,0))="","",INDEX(Members!$H$2:$H$251,MATCH($A9,Members!$A$2:$A$251,0))),"")) | S9: =IF($A9="","",IFERROR(IF(INDEX(Members!$J$2:$J$251,MATCH($A9,Members!$A$2:$A$251,0))="No","No","Yes"),"Yes")) | T9: =IF($A9="","",IF(OR(NOT(ISNUMBER($B9)),$S9="No"),0,SUMPRODUCT(($C$3:$N$3<TODAY())*((($R9="")+($R9<=$C$3:$N$3))>0)*(($B9-$C9:$N9)>0)*($B9-$C9:$N9)))) | U9: =IF(OR($A9="",NOT(ISNUMBER($B9)),$S9="No",$B$1<>YEAR(TODAY())),0,IF(OR($R9="",$R9<=INDEX($C$3:$N$3,MONTH(TODAY()))),$B9,0)) | V9: =IF(OR($A9="",$B$1<>YEAR(TODAY())),0,N(INDEX($C9:$N9,MONTH(TODAY())))) | W9: =IF($Q9="Overdue",COUNTIF($Q$5:$Q9,"Overdue"),"")
A10: Emily Foster | B10: =IF($A10="","",IFERROR(INDEX(Members!$I$2:$I$251,MATCH($A10,Members!$A$2:$A$251,0)),"")) | C10: 40 | D10: 40 | E10: 40 | F10: 40 | G10: 40 | O10: =IF($A10="","",SUM($C10:$N10)) | P10: =IF($A10="","",IF(OR(NOT(ISNUMBER($B10)),$S10="No"),0,SUMPRODUCT(($C$2:$N$2<=TODAY())*((($R10="")+($R10<=$C$3:$N$3))>0)*(($B10-$C10:$N10)>0)*($B10-$C10:$N10)))) | Q10: =IF($A10="","",IF(NOT(ISNUMBER($B10)),"Check name",IF($S10="No","Inactive",IF($P10=0,"Paid",IF($T10>0,"Overdue","Pending"))))) | R10: =IF($A10="","",IFERROR(IF(INDEX(Members!$H$2:$H$251,MATCH($A10,Members!$A$2:$A$251,0))="","",INDEX(Members!$H$2:$H$251,MATCH($A10,Members!$A$2:$A$251,0))),"")) | S10: =IF($A10="","",IFERROR(IF(INDEX(Members!$J$2:$J$251,MATCH($A10,Members!$A$2:$A$251,0))="No","No","Yes"),"Yes")) | T10: =IF($A10="","",IF(OR(NOT(ISNUMBER($B10)),$S10="No"),0,SUMPRODUCT(($C$3:$N$3<TODAY())*((($R10="")+($R10<=$C$3:$N$3))>0)*(($B10-$C10:$N10)>0)*($B10-$C10:$N10)))) | U10: =IF(OR($A10="",NOT(ISNUMBER($B10)),$S10="No",$B$1<>YEAR(TODAY())),0,IF(OR($R10="",$R10<=INDEX($C$3:$N$3,MONTH(TODAY()))),$B10,0)) | V10: =IF(OR($A10="",$B$1<>YEAR(TODAY())),0,N(INDEX($C10:$N10,MONTH(TODAY())))) | W10: =IF($Q10="Overdue",COUNTIF($Q$5:$Q10,"Overdue"),"")
B11: =IF($A11="","",IFERROR(INDEX(Members!$I$2:$I$251,MATCH($A11,Members!$A$2:$A$251,0)),"")) | O11: =IF($A11="","",SUM($C11:$N11)) | P11: =IF($A11="","",IF(OR(NOT(ISNUMBER($B11)),$S11="No"),0,SUMPRODUCT(($C$2:$N$2<=TODAY())*((($R11="")+($R11<=$C$3:$N$3))>0)*(($B11-$C11:$N11)>0)*($B11-$C11:$N11)))) | Q11: =IF($A11="","",IF(NOT(ISNUMBER($B11)),"Check name",IF($S11="No","Inactive",IF($P11=0,"Paid",IF($T11>0,"Overdue","Pending"))))) | R11: =IF($A11="","",IFERROR(IF(INDEX(Members!$H$2:$H$251,MATCH($A11,Members!$A$2:$A$251,0))="","",INDEX(Members!$H$2:$H$251,MATCH($A11,Members!$A$2:$A$251,0))),"")) | S11: =IF($A11="","",IFERROR(IF(INDEX(Members!$J$2:$J$251,MATCH($A11,Members!$A$2:$A$251,0))="No","No","Yes"),"Yes")) | T11: =IF($A11="","",IF(OR(NOT(ISNUMBER($B11)),$S11="No"),0,SUMPRODUCT(($C$3:$N$3<TODAY())*((($R11="")+($R11<=$C$3:$N$3))>0)*(($B11-$C11:$N11)>0)*($B11-$C11:$N11)))) | U11: =IF(OR($A11="",NOT(ISNUMBER($B11)),$S11="No",$B$1<>YEAR(TODAY())),0,IF(OR($R11="",$R11<=INDEX($C$3:$N$3,MONTH(TODAY()))),$B11,0)) | V11: =IF(OR($A11="",$B$1<>YEAR(TODAY())),0,N(INDEX($C11:$N11,MONTH(TODAY())))) | W11: =IF($Q11="Overdue",COUNTIF($Q$5:$Q11,"Overdue"),"")
B12: =IF($A12="","",IFERROR(INDEX(Members!$I$2:$I$251,MATCH($A12,Members!$A$2:$A$251,0)),"")) | O12: =IF($A12="","",SUM($C12:$N12)) | P12: =IF($A12="","",IF(OR(NOT(ISNUMBER($B12)),$S12="No"),0,SUMPRODUCT(($C$2:$N$2<=TODAY())*((($R12="")+($R12<=$C$3:$N$3))>0)*(($B12-$C12:$N12)>0)*($B12-$C12:$N12)))) | Q12: =IF($A12="","",IF(NOT(ISNUMBER($B12)),"Check name",IF($S12="No","Inactive",IF($P12=0,"Paid",IF($T12>0,"Overdue","Pending"))))) | R12: =IF($A12="","",IFERROR(IF(INDEX(Members!$H$2:$H$251,MATCH($A12,Members!$A$2:$A$251,0))="","",INDEX(Members!$H$2:$H$251,MATCH($A12,Members!$A$2:$A$251,0))),"")) | S12: =IF($A12="","",IFERROR(IF(INDEX(Members!$J$2:$J$251,MATCH($A12,Members!$A$2:$A$251,0))="No","No","Yes"),"Yes")) | T12: =IF($A12="","",IF(OR(NOT(ISNUMBER($B12)),$S12="No"),0,SUMPRODUCT(($C$3:$N$3<TODAY())*((($R12="")+($R12<=$C$3:$N$3))>0)*(($B12-$C12:$N12)>0)*($B12-$C12:$N12)))) | U12: =IF(OR($A12="",NOT(ISNUMBER($B12)),$S12="No",$B$1<>YEAR(TODAY())),0,IF(OR($R12="",$R12<=INDEX($C$3:$N$3,MONTH(TODAY()))),$B12,0)) | V12: =IF(OR($A12="",$B$1<>YEAR(TODAY())),0,N(INDEX($C12:$N12,MONTH(TODAY())))) | W12: =IF($Q12="Overdue",COUNTIF($Q$5:$Q12,"Overdue"),"")
B13: =IF($A13="","",IFERROR(INDEX(Members!$I$2:$I$251,MATCH($A13,Members!$A$2:$A$251,0)),"")) | O13: =IF($A13="","",SUM($C13:$N13)) | P13: =IF($A13="","",IF(OR(NOT(ISNUMBER($B13)),$S13="No"),0,SUMPRODUCT(($C$2:$N$2<=TODAY())*((($R13="")+($R13<=$C$3:$N$3))>0)*(($B13-$C13:$N13)>0)*($B13-$C13:$N13)))) | Q13: =IF($A13="","",IF(NOT(ISNUMBER($B13)),"Check name",IF($S13="No","Inactive",IF($P13=0,"Paid",IF($T13>0,"Overdue","Pending"))))) | R13: =IF($A13="","",IFERROR(IF(INDEX(Members!$H$2:$H$251,MATCH($A13,Members!$A$2:$A$251,0))="","",INDEX(Members!$H$2:$H$251,MATCH($A13,Members!$A$2:$A$251,0))),"")) | S13: =IF($A13="","",IFERROR(IF(INDEX(Members!$J$2:$J$251,MATCH($A13,Members!$A$2:$A$251,0))="No","No","Yes"),"Yes")) | T13: =IF($A13="","",IF(OR(NOT(ISNUMBER($B13)),$S13="No"),0,SUMPRODUCT(($C$3:$N$3<TODAY())*((($R13="")+($R13<=$C$3:$N$3))>0)*(($B13-$C13:$N13)>0)*($B13-$C13:$N13)))) | U13: =IF(OR($A13="",NOT(ISNUMBER($B13)),$S13="No",$B$1<>YEAR(TODAY())),0,IF(OR($R13="",$R13<=INDEX($C$3:$N$3,MONTH(TODAY()))),$B13,0)) | V13: =IF(OR($A13="",$B$1<>YEAR(TODAY())),0,N(INDEX($C13:$N13,MONTH(TODAY())))) | W13: =IF($Q13="Overdue",COUNTIF($Q$5:$Q13,"Overdue"),"")
B14: =IF($A14="","",IFERROR(INDEX(Members!$I$2:$I$251,MATCH($A14,Members!$A$2:$A$251,0)),"")) | O14: =IF($A14="","",SUM($C14:$N14)) | P14: =IF($A14="","",IF(OR(NOT(ISNUMBER($B14)),$S14="No"),0,SUMPRODUCT(($C$2:$N$2<=TODAY())*((($R14="")+($R14<=$C$3:$N$3))>0)*(($B14-$C14:$N14)>0)*($B14-$C14:$N14)))) | Q14: =IF($A14="","",IF(NOT(ISNUMBER($B14)),"Check name",IF($S14="No","Inactive",IF($P14=0,"Paid",IF($T14>0,"Overdue","Pending"))))) | R14: =IF($A14="","",IFERROR(IF(INDEX(Members!$H$2:$H$251,MATCH($A14,Members!$A$2:$A$251,0))="","",INDEX(Members!$H$2:$H$251,MATCH($A14,Members!$A$2:$A$251,0))),"")) | S14: =IF($A14="","",IFERROR(IF(INDEX(Members!$J$2:$J$251,MATCH($A14,Members!$A$2:$A$251,0))="No","No","Yes"),"Yes")) | T14: =IF($A14="","",IF(OR(NOT(ISNUMBER($B14)),$S14="No"),0,SUMPRODUCT(($C$3:$N$3<TODAY())*((($R14="")+($R14<=$C$3:$N$3))>0)*(($B14-$C14:$N14)>0)*($B14-$C14:$N14)))) | U14: =IF(OR($A14="",NOT(ISNUMBER($B14)),$S14="No",$B$1<>YEAR(TODAY())),0,IF(OR($R14="",$R14<=INDEX($C$3:$N$3,MONTH(TODAY()))),$B14,0)) | V14: =IF(OR($A14="",$B$1<>YEAR(TODAY())),0,N(INDEX($C14:$N14,MONTH(TODAY())))) | W14: =IF($Q14="Overdue",COUNTIF($Q$5:$Q14,"Overdue"),"")
B15: =IF($A15="","",IFERROR(INDEX(Members!$I$2:$I$251,MATCH($A15,Members!$A$2:$A$251,0)),"")) | O15: =IF($A15="","",SUM($C15:$N15)) | P15: =IF($A15="","",IF(OR(NOT(ISNUMBER($B15)),$S15="No"),0,SUMPRODUCT(($C$2:$N$2<=TODAY())*((($R15="")+($R15<=$C$3:$N$3))>0)*(($B15-$C15:$N15)>0)*($B15-$C15:$N15)))) | Q15: =IF($A15="","",IF(NOT(ISNUMBER($B15)),"Check name",IF($S15="No","Inactive",IF($P15=0,"Paid",IF($T15>0,"Overdue","Pending"))))) | R15: =IF($A15="","",IFERROR(IF(INDEX(Members!$H$2:$H$251,MATCH($A15,Members!$A$2:$A$251,0))="","",INDEX(Members!$H$2:$H$251,MATCH($A15,Members!$A$2:$A$251,0))),"")) | S15: =IF($A15="","",IFERROR(IF(INDEX(Members!$J$2:$J$251,MATCH($A15,Members!$A$2:$A$251,0))="No","No","Yes"),"Yes")) | T15: =IF($A15="","",IF(OR(NOT(ISNUMBER($B15)),$S15="No"),0,SUMPRODUCT(($C$3:$N$3<TODAY())*((($R15="")+($R15<=$C$3:$N$3))>0)*(($B15-$C15:$N15)>0)*($B15-$C15:$N15)))) | U15: =IF(OR($A15="",NOT(ISNUMBER($B15)),$S15="No",$B$1<>YEAR(TODAY())),0,IF(OR($R15="",$R15<=INDEX($C$3:$N$3,MONTH(TODAY()))),$B15,0)) | V15: =IF(OR($A15="",$B$1<>YEAR(TODAY())),0,N(INDEX($C15:$N15,MONTH(TODAY())))) | W15: =IF($Q15="Overdue",COUNTIF($Q$5:$Q15,"Overdue"),"")
B16: =IF($A16="","",IFERROR(INDEX(Members!$I$2:$I$251,MATCH($A16,Members!$A$2:$A$251,0)),"")) | O16: =IF($A16="","",SUM($C16:$N16)) | P16: =IF($A16="","",IF(OR(NOT(ISNUMBER($B16)),$S16="No"),0,SUMPRODUCT(($C$2:$N$2<=TODAY())*((($R16="")+($R16<=$C$3:$N$3))>0)*(($B16-$C16:$N16)>0)*($B16-$C16:$N16)))) | Q16: =IF($A16="","",IF(NOT(ISNUMBER($B16)),"Check name",IF($S16="No","Inactive",IF($P16=0,"Paid",IF($T16>0,"Overdue","Pending"))))) | R16: =IF($A16="","",IFERROR(IF(INDEX(Members!$H$2:$H$251,MATCH($A16,Members!$A$2:$A$251,0))="","",INDEX(Members!$H$2:$H$251,MATCH($A16,Members!$A$2:$A$251,0))),"")) | S16: =IF($A16="","",IFERROR(IF(INDEX(Members!$J$2:$J$251,MATCH($A16,Members!$A$2:$A$251,0))="No","No","Yes"),"Yes")) | T16: =IF($A16="","",IF(OR(NOT(ISNUMBER($B16)),$S16="No"),0,SUMPRODUCT(($C$3:$N$3<TODAY())*((($R16="")+($R16<=$C$3:$N$3))>0)*(($B16-$C16:$N16)>0)*($B16-$C16:$N16)))) | U16: =IF(OR($A16="",NOT(ISNUMBER($B16)),$S16="No",$B$1<>YEAR(TODAY())),0,IF(OR($R16="",$R16<=INDEX($C$3:$N$3,MONTH(TODAY()))),$B16,0)) | V16: =IF(OR($A16="",$B$1<>YEAR(TODAY())),0,N(INDEX($C16:$N16,MONTH(TODAY())))) | W16: =IF($Q16="Overdue",COUNTIF($Q$5:$Q16,"Overdue"),"")
B17: =IF($A17="","",IFERROR(INDEX(Members!$I$2:$I$251,MATCH($A17,Members!$A$2:$A$251,0)),"")) | O17: =IF($A17="","",SUM($C17:$N17)) | P17: =IF($A17="","",IF(OR(NOT(ISNUMBER($B17)),$S17="No"),0,SUMPRODUCT(($C$2:$N$2<=TODAY())*((($R17="")+($R17<=$C$3:$N$3))>0)*(($B17-$C17:$N17)>0)*($B17-$C17:$N17)))) | Q17: =IF($A17="","",IF(NOT(ISNUMBER($B17)),"Check name",IF($S17="No","Inactive",IF($P17=0,"Paid",IF($T17>0,"Overdue","Pending"))))) | R17: =IF($A17="","",IFERROR(IF(INDEX(Members!$H$2:$H$251,MATCH($A17,Members!$A$2:$A$251,0))="","",INDEX(Members!$H$2:$H$251,MATCH($A17,Members!$A$2:$A$251,0))),"")) | S17: =IF($A17="","",IFERROR(IF(INDEX(Members!$J$2:$J$251,MATCH($A17,Members!$A$2:$A$251,0))="No","No","Yes"),"Yes")) | T17: =IF($A17="","",IF(OR(NOT(ISNUMBER($B17)),$S17="No"),0,SUMPRODUCT(($C$3:$N$3<TODAY())*((($R17="")+($R17<=$C$3:$N$3))>0)*(($B17-$C17:$N17)>0)*($B17-$C17:$N17)))) | U17: =IF(OR($A17="",NOT(ISNUMBER($B17)),$S17="No",$B$1<>YEAR(TODAY())),0,IF(OR($R17="",$R17<=INDEX($C$3:$N$3,MONTH(TODAY()))),$B17,0)) | V17: =IF(OR($A17="",$B$1<>YEAR(TODAY())),0,N(INDEX($C17:$N17,MONTH(TODAY())))) | W17: =IF($Q17="Overdue",COUNTIF($Q$5:$Q17,"Overdue"),"")
B18: =IF($A18="","",IFERROR(INDEX(Members!$I$2:$I$251,MATCH($A18,Members!$A$2:$A$251,0)),"")) | O18: =IF($A18="","",SUM($C18:$N18)) | P18: =IF($A18="","",IF(OR(NOT(ISNUMBER($B18)),$S18="No"),0,SUMPRODUCT(($C$2:$N$2<=TODAY())*((($R18="")+($R18<=$C$3:$N$3))>0)*(($B18-$C18:$N18)>0)*($B18-$C18:$N18)))) | Q18: =IF($A18="","",IF(NOT(ISNUMBER($B18)),"Check name",IF($S18="No","Inactive",IF($P18=0,"Paid",IF($T18>0,"Overdue","Pending"))))) | R18: =IF($A18="","",IFERROR(IF(INDEX(Members!$H$2:$H$251,MATCH($A18,Members!$A$2:$A$251,0))="","",INDEX(Members!$H$2:$H$251,MATCH($A18,Members!$A$2:$A$251,0))),"")) | S18: =IF($A18="","",IFERROR(IF(INDEX(Members!$J$2:$J$251,MATCH($A18,Members!$A$2:$A$251,0))="No","No","Yes"),"Yes")) | T18: =IF($A18="","",IF(OR(NOT(ISNUMBER($B18)),$S18="No"),0,SUMPRODUCT(($C$3:$N$3<TODAY())*((($R18="")+($R18<=$C$3:$N$3))>0)*(($B18-$C18:$N18)>0)*($B18-$C18:$N18)))) | U18: =IF(OR($A18="",NOT(ISNUMBER($B18)),$S18="No",$B$1<>YEAR(TODAY())),0,IF(OR($R18="",$R18<=INDEX($C$3:$N$3,MONTH(TODAY()))),$B18,0)) | V18: =IF(OR($A18="",$B$1<>YEAR(TODAY())),0,N(INDEX($C18:$N18,MONTH(TODAY())))) | W18: =IF($Q18="Overdue",COUNTIF($Q$5:$Q18,"Overdue"),"")
B19: =IF($A19="","",IFERROR(INDEX(Members!$I$2:$I$251,MATCH($A19,Members!$A$2:$A$251,0)),"")) | O19: =IF($A19="","",SUM($C19:$N19)) | P19: =IF($A19="","",IF(OR(NOT(ISNUMBER($B19)),$S19="No"),0,SUMPRODUCT(($C$2:$N$2<=TODAY())*((($R19="")+($R19<=$C$3:$N$3))>0)*(($B19-$C19:$N19)>0)*($B19-$C19:$N19)))) | Q19: =IF($A19="","",IF(NOT(ISNUMBER($B19)),"Check name",IF($S19="No","Inactive",IF($P19=0,"Paid",IF($T19>0,"Overdue","Pending"))))) | R19: =IF($A19="","",IFERROR(IF(INDEX(Members!$H$2:$H$251,MATCH($A19,Members!$A$2:$A$251,0))="","",INDEX(Members!$H$2:$H$251,MATCH($A19,Members!$A$2:$A$251,0))),"")) | S19: =IF($A19="","",IFERROR(IF(INDEX(Members!$J$2:$J$251,MATCH($A19,Members!$A$2:$A$251,0))="No","No","Yes"),"Yes")) | T19: =IF($A19="","",IF(OR(NOT(ISNUMBER($B19)),$S19="No"),0,SUMPRODUCT(($C$3:$N$3<TODAY())*((($R19="")+($R19<=$C$3:$N$3))>0)*(($B19-$C19:$N19)>0)*($B19-$C19:$N19)))) | U19: =IF(OR($A19="",NOT(ISNUMBER($B19)),$S19="No",$B$1<>YEAR(TODAY())),0,IF(OR($R19="",$R19<=INDEX($C$3:$N$3,MONTH(TODAY()))),$B19,0)) | V19: =IF(OR($A19="",$B$1<>YEAR(TODAY())),0,N(INDEX($C19:$N19,MONTH(TODAY())))) | W19: =IF($Q19="Overdue",COUNTIF($Q$5:$Q19,"Overdue"),"")
B20: =IF($A20="","",IFERROR(INDEX(Members!$I$2:$I$251,MATCH($A20,Members!$A$2:$A$251,0)),"")) | O20: =IF($A20="","",SUM($C20:$N20)) | P20: =IF($A20="","",IF(OR(NOT(ISNUMBER($B20)),$S20="No"),0,SUMPRODUCT(($C$2:$N$2<=TODAY())*((($R20="")+($R20<=$C$3:$N$3))>0)*(($B20-$C20:$N20)>0)*($B20-$C20:$N20)))) | Q20: =IF($A20="","",IF(NOT(ISNUMBER($B20)),"Check name",IF($S20="No","Inactive",IF($P20=0,"Paid",IF($T20>0,"Overdue","Pending"))))) | R20: =IF($A20="","",IFERROR(IF(INDEX(Members!$H$2:$H$251,MATCH($A20,Members!$A$2:$A$251,0))="","",INDEX(Members!$H$2:$H$251,MATCH($A20,Members!$A$2:$A$251,0))),"")) | S20: =IF($A20="","",IFERROR(IF(INDEX(Members!$J$2:$J$251,MATCH($A20,Members!$A$2:$A$251,0))="No","No","Yes"),"Yes")) | T20: =IF($A20="","",IF(OR(NOT(ISNUMBER($B20)),$S20="No"),0,SUMPRODUCT(($C$3:$N$3<TODAY())*((($R20="")+($R20<=$C$3:$N$3))>0)*(($B20-$C20:$N20)>0)*($B20-$C20:$N20)))) | U20: =IF(OR($A20="",NOT(ISNUMBER($B20)),$S20="No",$B$1<>YEAR(TODAY())),0,IF(OR($R20="",$R20<=INDEX($C$3:$N$3,MONTH(TODAY()))),$B20,0)) | V20: =IF(OR($A20="",$B$1<>YEAR(TODAY())),0,N(INDEX($C20:$N20,MONTH(TODAY())))) | W20: =IF($Q20="Overdue",COUNTIF($Q$5:$Q20,"Overdue"),"")
B21: =IF($A21="","",IFERROR(INDEX(Members!$I$2:$I$251,MATCH($A21,Members!$A$2:$A$251,0)),"")) | O21: =IF($A21="","",SUM($C21:$N21)) | P21: =IF($A21="","",IF(OR(NOT(ISNUMBER($B21)),$S21="No"),0,SUMPRODUCT(($C$2:$N$2<=TODAY())*((($R21="")+($R21<=$C$3:$N$3))>0)*(($B21-$C21:$N21)>0)*($B21-$C21:$N21)))) | Q21: =IF($A21="","",IF(NOT(ISNUMBER($B21)),"Check name",IF($S21="No","Inactive",IF($P21=0,"Paid",IF($T21>0,"Overdue","Pending"))))) | R21: =IF($A21="","",IFERROR(IF(INDEX(Members!$H$2:$H$251,MATCH($A21,Members!$A$2:$A$251,0))="","",INDEX(Members!$H$2:$H$251,MATCH($A21,Members!$A$2:$A$251,0))),"")) | S21: =IF($A21="","",IFERROR(IF(INDEX(Members!$J$2:$J$251,MATCH($A21,Members!$A$2:$A$251,0))="No","No","Yes"),"Yes")) | T21: =IF($A21="","",IF(OR(NOT(ISNUMBER($B21)),$S21="No"),0,SUMPRODUCT(($C$3:$N$3<TODAY())*((($R21="")+($R21<=$C$3:$N$3))>0)*(($B21-$C21:$N21)>0)*($B21-$C21:$N21)))) | U21: =IF(OR($A21="",NOT(ISNUMBER($B21)),$S21="No",$B$1<>YEAR(TODAY())),0,IF(OR($R21="",$R21<=INDEX($C$3:$N$3,MONTH(TODAY()))),$B21,0)) | V21: =IF(OR($A21="",$B$1<>YEAR(TODAY())),0,N(INDEX($C21:$N21,MONTH(TODAY())))) | W21: =IF($Q21="Overdue",COUNTIF($Q$5:$Q21,"Overdue"),"")
B22: =IF($A22="","",IFERROR(INDEX(Members!$I$2:$I$251,MATCH($A22,Members!$A$2:$A$251,0)),"")) | O22: =IF($A22="","",SUM($C22:$N22)) | P22: =IF($A22="","",IF(OR(NOT(ISNUMBER($B22)),$S22="No"),0,SUMPRODUCT(($C$2:$N$2<=TODAY())*((($R22="")+($R22<=$C$3:$N$3))>0)*(($B22-$C22:$N22)>0)*($B22-$C22:$N22)))) | Q22: =IF($A22="","",IF(NOT(ISNUMBER($B22)),"Check name",IF($S22="No","Inactive",IF($P22=0,"Paid",IF($T22>0,"Overdue","Pending"))))) | R22: =IF($A22="","",IFERROR(IF(INDEX(Members!$H$2:$H$251,MATCH($A22,Members!$A$2:$A$251,0))="","",INDEX(Members!$H$2:$H$251,MATCH($A22,Members!$A$2:$A$251,0))),"")) | S22: =IF($A22="","",IFERROR(IF(INDEX(Members!$J$2:$J$251,MATCH($A22,Members!$A$2:$A$251,0))="No","No","Yes"),"Yes")) | T22: =IF($A22="","",IF(OR(NOT(ISNUMBER($B22)),$S22="No"),0,SUMPRODUCT(($C$3:$N$3<TODAY())*((($R22="")+($R22<=$C$3:$N$3))>0)*(($B22-$C22:$N22)>0)*($B22-$C22:$N22)))) | U22: =IF(OR($A22="",NOT(ISNUMBER($B22)),$S22="No",$B$1<>YEAR(TODAY())),0,IF(OR($R22="",$R22<=INDEX($C$3:$N$3,MONTH(TODAY()))),$B22,0)) | V22: =IF(OR($A22="",$B$1<>YEAR(TODAY())),0,N(INDEX($C22:$N22,MONTH(TODAY())))) | W22: =IF($Q22="Overdue",COUNTIF($Q$5:$Q22,"Overdue"),"")
... B254: =IF($A254="","",IFERROR(INDEX(Members!$I$2:$I$251,MATCH($A254,Members!$A$2:$A$251,0)),"")) | O254: =IF($A254="","",SUM($C254:$N254)) | P254: =IF($A254="","",IF(OR(NOT(ISNUMBER($B254)),$S254="No"),0,SUMPRODUCT(($C$2:$N$2<=TODAY())*((($R254="")+($R254<=$C$3:$N$3))>0)*(($B254-$C254:$N254)>0)*($B254-$C254:$N254)))) | Q254: =IF($A254="","",IF(NOT(ISNUMBER($B254)),"Check name",IF($S254="No","Inactive",IF($P254=0,"Paid",IF($T254>0,"Overdue","Pending"))))) | R254: =IF($A254="","",IFERROR(IF(INDEX(Members!$H$2:$H$251,MATCH($A254,Members!$A$2:$A$251,0))="","",INDEX(Members!$H$2:$H$251,MATCH($A254,Members!$A$2:$A$251,0))),"")) | S254: =IF($A254="","",IFERROR(IF(INDEX(Members!$J$2:$J$251,MATCH($A254,Members!$A$2:$A$251,0))="No","No","Yes"),"Yes")) | T254: =IF($A254="","",IF(OR(NOT(ISNUMBER($B254)),$S254="No"),0,SUMPRODUCT(($C$3:$N$3<TODAY())*((($R254="")+($R254<=$C$3:$N$3))>0)*(($B254-$C254:$N254)>0)*($B254-$C254:$N254)))) | U254: =IF(OR($A254="",NOT(ISNUMBER($B254)),$S254="No",$B$1<>YEAR(TODAY())),0,IF(OR($R254="",$R254<=INDEX($C$3:$N$3,MONTH(TODAY()))),$B254,0)) | V254: =IF(OR($A254="",$B$1<>YEAR(TODAY())),0,N(INDEX($C254:$N254,MONTH(TODAY())))) | W254: =IF($Q254="Overdue",COUNTIF($Q$5:$Q254,"Overdue"),"")

Sheet Attendance
A1: Type each session date in row 3. Mark X for present and A for absent. Leave the cell empty when the session was not for that member's group.
A3: Member | B3: Group | C3: Attended | D3: Sessions | E3: Attendance | F3: 46266 | G3: 46268 | H3: 46273 | I3: 46275 | J3: 46280 | K3: 46282 | L3: 46287 | M3: 46289
A4: Oliver Bennett | B4: =IF($A4="","",IFERROR(INDEX(Members!$G$2:$G$251,MATCH($A4,Members!$A$2:$A$251,0))&"","")) | C4: =IF($A4="","",COUNTIF($F4:$BM4,"x")) | D4: =IF($A4="","",COUNTIF($F4:$BM4,"x")+COUNTIF($F4:$BM4,"a")) | E4: =IF($A4="","",IF($D4=0,"",$C4/$D4)) | F4: X | G4: X | H4: X | I4: X | J4: X | K4: X | L4: X | M4: X
A5: Amelia Clarke | B5: =IF($A5="","",IFERROR(INDEX(Members!$G$2:$G$251,MATCH($A5,Members!$A$2:$A$251,0))&"","")) | C5: =IF($A5="","",COUNTIF($F5:$BM5,"x")) | D5: =IF($A5="","",COUNTIF($F5:$BM5,"x")+COUNTIF($F5:$BM5,"a")) | E5: =IF($A5="","",IF($D5=0,"",$C5/$D5)) | F5: X | G5: X | H5: A | I5: X | J5: X | K5: X | L5: X | M5: A
A6: Noah Patel | B6: =IF($A6="","",IFERROR(INDEX(Members!$G$2:$G$251,MATCH($A6,Members!$A$2:$A$251,0))&"","")) | C6: =IF($A6="","",COUNTIF($F6:$BM6,"x")) | D6: =IF($A6="","",COUNTIF($F6:$BM6,"x")+COUNTIF($F6:$BM6,"a")) | E6: =IF($A6="","",IF($D6=0,"",$C6/$D6)) | F6: X | G6: A | H6: X | I6: X | J6: A | K6: X | L6: A | M6: A
A7: Isla Thompson | B7: =IF($A7="","",IFERROR(INDEX(Members!$G$2:$G$251,MATCH($A7,Members!$A$2:$A$251,0))&"","")) | C7: =IF($A7="","",COUNTIF($F7:$BM7,"x")) | D7: =IF($A7="","",COUNTIF($F7:$BM7,"x")+COUNTIF($F7:$BM7,"a")) | E7: =IF($A7="","",IF($D7=0,"",$C7/$D7)) | F7: X | G7: X | H7: X | I7: X | J7: X | K7: A | L7: X | M7: X
A8: George Wright | B8: =IF($A8="","",IFERROR(INDEX(Members!$G$2:$G$251,MATCH($A8,Members!$A$2:$A$251,0))&"","")) | C8: =IF($A8="","",COUNTIF($F8:$BM8,"x")) | D8: =IF($A8="","",COUNTIF($F8:$BM8,"x")+COUNTIF($F8:$BM8,"a")) | E8: =IF($A8="","",IF($D8=0,"",$C8/$D8)) | F8: A | G8: X | H8: X | I8: A | J8: X | K8: X | L8: X | M8: X
B9: =IF($A9="","",IFERROR(INDEX(Members!$G$2:$G$251,MATCH($A9,Members!$A$2:$A$251,0))&"","")) | C9: =IF($A9="","",COUNTIF($F9:$BM9,"x")) | D9: =IF($A9="","",COUNTIF($F9:$BM9,"x")+COUNTIF($F9:$BM9,"a")) | E9: =IF($A9="","",IF($D9=0,"",$C9/$D9))
B10: =IF($A10="","",IFERROR(INDEX(Members!$G$2:$G$251,MATCH($A10,Members!$A$2:$A$251,0))&"","")) | C10: =IF($A10="","",COUNTIF($F10:$BM10,"x")) | D10: =IF($A10="","",COUNTIF($F10:$BM10,"x")+COUNTIF($F10:$BM10,"a")) | E10: =IF($A10="","",IF($D10=0,"",$C10/$D10))
B11: =IF($A11="","",IFERROR(INDEX(Members!$G$2:$G$251,MATCH($A11,Members!$A$2:$A$251,0))&"","")) | C11: =IF($A11="","",COUNTIF($F11:$BM11,"x")) | D11: =IF($A11="","",COUNTIF($F11:$BM11,"x")+COUNTIF($F11:$BM11,"a")) | E11: =IF($A11="","",IF($D11=0,"",$C11/$D11))
B12: =IF($A12="","",IFERROR(INDEX(Members!$G$2:$G$251,MATCH($A12,Members!$A$2:$A$251,0))&"","")) | C12: =IF($A12="","",COUNTIF($F12:$BM12,"x")) | D12: =IF($A12="","",COUNTIF($F12:$BM12,"x")+COUNTIF($F12:$BM12,"a")) | E12: =IF($A12="","",IF($D12=0,"",$C12/$D12))
B13: =IF($A13="","",IFERROR(INDEX(Members!$G$2:$G$251,MATCH($A13,Members!$A$2:$A$251,0))&"","")) | C13: =IF($A13="","",COUNTIF($F13:$BM13,"x")) | D13: =IF($A13="","",COUNTIF($F13:$BM13,"x")+COUNTIF($F13:$BM13,"a")) | E13: =IF($A13="","",IF($D13=0,"",$C13/$D13))
B14: =IF($A14="","",IFERROR(INDEX(Members!$G$2:$G$251,MATCH($A14,Members!$A$2:$A$251,0))&"","")) | C14: =IF($A14="","",COUNTIF($F14:$BM14,"x")) | D14: =IF($A14="","",COUNTIF($F14:$BM14,"x")+COUNTIF($F14:$BM14,"a")) | E14: =IF($A14="","",IF($D14=0,"",$C14/$D14))
B15: =IF($A15="","",IFERROR(INDEX(Members!$G$2:$G$251,MATCH($A15,Members!$A$2:$A$251,0))&"","")) | C15: =IF($A15="","",COUNTIF($F15:$BM15,"x")) | D15: =IF($A15="","",COUNTIF($F15:$BM15,"x")+COUNTIF($F15:$BM15,"a")) | E15: =IF($A15="","",IF($D15=0,"",$C15/$D15))
B16: =IF($A16="","",IFERROR(INDEX(Members!$G$2:$G$251,MATCH($A16,Members!$A$2:$A$251,0))&"","")) | C16: =IF($A16="","",COUNTIF($F16:$BM16,"x")) | D16: =IF($A16="","",COUNTIF($F16:$BM16,"x")+COUNTIF($F16:$BM16,"a")) | E16: =IF($A16="","",IF($D16=0,"",$C16/$D16))
B17: =IF($A17="","",IFERROR(INDEX(Members!$G$2:$G$251,MATCH($A17,Members!$A$2:$A$251,0))&"","")) | C17: =IF($A17="","",COUNTIF($F17:$BM17,"x")) | D17: =IF($A17="","",COUNTIF($F17:$BM17,"x")+COUNTIF($F17:$BM17,"a")) | E17: =IF($A17="","",IF($D17=0,"",$C17/$D17))
B18: =IF($A18="","",IFERROR(INDEX(Members!$G$2:$G$251,MATCH($A18,Members!$A$2:$A$251,0))&"","")) | C18: =IF($A18="","",COUNTIF($F18:$BM18,"x")) | D18: =IF($A18="","",COUNTIF($F18:$BM18,"x")+COUNTIF($F18:$BM18,"a")) | E18: =IF($A18="","",IF($D18=0,"",$C18/$D18))
B19: =IF($A19="","",IFERROR(INDEX(Members!$G$2:$G$251,MATCH($A19,Members!$A$2:$A$251,0))&"","")) | C19: =IF($A19="","",COUNTIF($F19:$BM19,"x")) | D19: =IF($A19="","",COUNTIF($F19:$BM19,"x")+COUNTIF($F19:$BM19,"a")) | E19: =IF($A19="","",IF($D19=0,"",$C19/$D19))
B20: =IF($A20="","",IFERROR(INDEX(Members!$G$2:$G$251,MATCH($A20,Members!$A$2:$A$251,0))&"","")) | C20: =IF($A20="","",COUNTIF($F20:$BM20,"x")) | D20: =IF($A20="","",COUNTIF($F20:$BM20,"x")+COUNTIF($F20:$BM20,"a")) | E20: =IF($A20="","",IF($D20=0,"",$C20/$D20))
... B253: =IF($A253="","",IFERROR(INDEX(Members!$G$2:$G$251,MATCH($A253,Members!$A$2:$A$251,0))&"","")) | C253: =IF($A253="","",COUNTIF($F253:$BM253,"x")) | D253: =IF($A253="","",COUNTIF($F253:$BM253,"x")+COUNTIF($F253:$BM253,"a")) | E253: =IF($A253="","",IF($D253=0,"",$C253/$D253))

Sheet Overview
A1: Club overview
A2: Everything here updates on its own. This month figures use the year set on the Payments sheet.
A4: Members | D4: Who is overdue | E4: Overdue | F4: Total outstanding
A5: Active members | B5: =SUMPRODUCT((Members!$A$2:$A$251<>"")*(Members!$J$2:$J$251<>"No")) | D5: =IFERROR(INDEX(Payments!$A$5:$A$254,MATCH(1,Payments!$W$5:$W$254,0)),"") | E5: =IFERROR(INDEX(Payments!$T$5:$T$254,MATCH(1,Payments!$W$5:$W$254,0)),"") | F5: =IFERROR(INDEX(Payments!$P$5:$P$254,MATCH(1,Payments!$W$5:$W$254,0)),"")
A6: Inactive members | B6: =SUMPRODUCT((Members!$A$2:$A$251<>"")*(Members!$J$2:$J$251="No")) | D6: =IFERROR(INDEX(Payments!$A$5:$A$254,MATCH(2,Payments!$W$5:$W$254,0)),"") | E6: =IFERROR(INDEX(Payments!$T$5:$T$254,MATCH(2,Payments!$W$5:$W$254,0)),"") | F6: =IFERROR(INDEX(Payments!$P$5:$P$254,MATCH(2,Payments!$W$5:$W$254,0)),"")
D7: =IFERROR(INDEX(Payments!$A$5:$A$254,MATCH(3,Payments!$W$5:$W$254,0)),"") | E7: =IFERROR(INDEX(Payments!$T$5:$T$254,MATCH(3,Payments!$W$5:$W$254,0)),"") | F7: =IFERROR(INDEX(Payments!$P$5:$P$254,MATCH(3,Payments!$W$5:$W$254,0)),"")
A8: Payments | D8: =IFERROR(INDEX(Payments!$A$5:$A$254,MATCH(4,Payments!$W$5:$W$254,0)),"") | E8: =IFERROR(INDEX(Payments!$T$5:$T$254,MATCH(4,Payments!$W$5:$W$254,0)),"") | F8: =IFERROR(INDEX(Payments!$P$5:$P$254,MATCH(4,Payments!$W$5:$W$254,0)),"")
A9: Expected this month | B9: =SUM(Payments!$U$5:$U$254) | D9: =IFERROR(INDEX(Payments!$A$5:$A$254,MATCH(5,Payments!$W$5:$W$254,0)),"") | E9: =IFERROR(INDEX(Payments!$T$5:$T$254,MATCH(5,Payments!$W$5:$W$254,0)),"") | F9: =IFERROR(INDEX(Payments!$P$5:$P$254,MATCH(5,Payments!$W$5:$W$254,0)),"")
A10: Collected this month | B10: =SUM(Payments!$V$5:$V$254) | D10: =IFERROR(INDEX(Payments!$A$5:$A$254,MATCH(6,Payments!$W$5:$W$254,0)),"") | E10: =IFERROR(INDEX(Payments!$T$5:$T$254,MATCH(6,Payments!$W$5:$W$254,0)),"") | F10: =IFERROR(INDEX(Payments!$P$5:$P$254,MATCH(6,Payments!$W$5:$W$254,0)),"")
A11: Collected this year | B11: =SUM(Payments!$O$5:$O$254) | D11: =IFERROR(INDEX(Payments!$A$5:$A$254,MATCH(7,Payments!$W$5:$W$254,0)),"") | E11: =IFERROR(INDEX(Payments!$T$5:$T$254,MATCH(7,Payments!$W$5:$W$254,0)),"") | F11: =IFERROR(INDEX(Payments!$P$5:$P$254,MATCH(7,Payments!$W$5:$W$254,0)),"")
A12: Total outstanding | B12: =SUM(Payments!$P$5:$P$254) | D12: =IFERROR(INDEX(Payments!$A$5:$A$254,MATCH(8,Payments!$W$5:$W$254,0)),"") | E12: =IFERROR(INDEX(Payments!$T$5:$T$254,MATCH(8,Payments!$W$5:$W$254,0)),"") | F12: =IFERROR(INDEX(Payments!$P$5:$P$254,MATCH(8,Payments!$W$5:$W$254,0)),"")
A13: Members overdue | B13: =COUNTIF(Payments!$Q$5:$Q$254,"Overdue") | D13: =IFERROR(INDEX(Payments!$A$5:$A$254,MATCH(9,Payments!$W$5:$W$254,0)),"") | E13: =IFERROR(INDEX(Payments!$T$5:$T$254,MATCH(9,Payments!$W$5:$W$254,0)),"") | F13: =IFERROR(INDEX(Payments!$P$5:$P$254,MATCH(9,Payments!$W$5:$W$254,0)),"")
A14: Members pending | B14: =COUNTIF(Payments!$Q$5:$Q$254,"Pending") | D14: =IFERROR(INDEX(Payments!$A$5:$A$254,MATCH(10,Payments!$W$5:$W$254,0)),"") | E14: =IFERROR(INDEX(Payments!$T$5:$T$254,MATCH(10,Payments!$W$5:$W$254,0)),"") | F14: =IFERROR(INDEX(Payments!$P$5:$P$254,MATCH(10,Payments!$W$5:$W$254,0)),"")
D15: =IFERROR(INDEX(Payments!$A$5:$A$254,MATCH(11,Payments!$W$5:$W$254,0)),"") | E15: =IFERROR(INDEX(Payments!$T$5:$T$254,MATCH(11,Payments!$W$5:$W$254,0)),"") | F15: =IFERROR(INDEX(Payments!$P$5:$P$254,MATCH(11,Payments!$W$5:$W$254,0)),"")
A16: Attendance | D16: =IFERROR(INDEX(Payments!$A$5:$A$254,MATCH(12,Payments!$W$5:$W$254,0)),"") | E16: =IFERROR(INDEX(Payments!$T$5:$T$254,MATCH(12,Payments!$W$5:$W$254,0)),"") | F16: =IFERROR(INDEX(Payments!$P$5:$P$254,MATCH(12,Payments!$W$5:$W$254,0)),"")
A17: Average attendance | B17: =IFERROR(AVERAGE(Attendance!$E$4:$E$253),"") | D17: =IFERROR(INDEX(Payments!$A$5:$A$254,MATCH(13,Payments!$W$5:$W$254,0)),"") | E17: =IFERROR(INDEX(Payments!$T$5:$T$254,MATCH(13,Payments!$W$5:$W$254,0)),"") | F17: =IFERROR(INDEX(Payments!$P$5:$P$254,MATCH(13,Payments!$W$5:$W$254,0)),"")
D18: =IFERROR(INDEX(Payments!$A$5:$A$254,MATCH(14,Payments!$W$5:$W$254,0)),"") | E18: =IFERROR(INDEX(Payments!$T$5:$T$254,MATCH(14,Payments!$W$5:$W$254,0)),"") | F18: =IFERROR(INDEX(Payments!$P$5:$P$254,MATCH(14,Payments!$W$5:$W$254,0)),"")
A19: Checks | D19: =IFERROR(INDEX(Payments!$A$5:$A$254,MATCH(15,Payments!$W$5:$W$254,0)),"") | E19: =IFERROR(INDEX(Payments!$T$5:$T$254,MATCH(15,Payments!$W$5:$W$254,0)),"") | F19: =IFERROR(INDEX(Payments!$P$5:$P$254,MATCH(15,Payments!$W$5:$W$254,0)),"")
A20: Active members missing from Payments | B20: =SUMPRODUCT((Members!$A$2:$A$251<>"")*(Members!$J$2:$J$251<>"No")*(COUNTIF(Payments!$A$5:$A$254,Members!$A$2:$A$251)=0)) | D20: =IFERROR(INDEX(Payments!$A$5:$A$254,MATCH(16,Payments!$W$5:$W$254,0)),"") | E20: =IFERROR(INDEX(Payments!$T$5:$T$254,MATCH(16,Payments!$W$5:$W$254,0)),"") | F20: =IFERROR(INDEX(Payments!$P$5:$P$254,MATCH(16,Payments!$W$5:$W$254,0)),"")
A21: Active members missing from Attendance | B21: =SUMPRODUCT((Members!$A$2:$A$251<>"")*(Members!$J$2:$J$251<>"No")*(COUNTIF(Attendance!$A$4:$A$253,Members!$A$2:$A$251)=0)) | D21: =IFERROR(INDEX(Payments!$A$5:$A$254,MATCH(17,Payments!$W$5:$W$254,0)),"") | E21: =IFERROR(INDEX(Payments!$T$5:$T$254,MATCH(17,Payments!$W$5:$W$254,0)),"") | F21: =IFERROR(INDEX(Payments!$P$5:$P$254,MATCH(17,Payments!$W$5:$W$254,0)),"")
D22: =IFERROR(INDEX(Payments!$A$5:$A$254,MATCH(18,Payments!$W$5:$W$254,0)),"") | E22: =IFERROR(INDEX(Payments!$T$5:$T$254,MATCH(18,Payments!$W$5:$W$254,0)),"") | F22: =IFERROR(INDEX(Payments!$P$5:$P$254,MATCH(18,Payments!$W$5:$W$254,0)),"")
D23: =IFERROR(INDEX(Payments!$A$5:$A$254,MATCH(19,Payments!$W$5:$W$254,0)),"") | E23: =IFERROR(INDEX(Payments!$T$5:$T$254,MATCH(19,Payments!$W$5:$W$254,0)),"") | F23: =IFERROR(INDEX(Payments!$P$5:$P$254,MATCH(19,Payments!$W$5:$W$254,0)),"")
D24: =IFERROR(INDEX(Payments!$A$5:$A$254,MATCH(20,Payments!$W$5:$W$254,0)),"") | E24: =IFERROR(INDEX(Payments!$T$5:$T$254,MATCH(20,Payments!$W$5:$W$254,0)),"") | F24: =IFERROR(INDEX(Payments!$P$5:$P$254,MATCH(20,Payments!$W$5:$W$254,0)),"")
D25: =IFERROR(INDEX(Payments!$A$5:$A$254,MATCH(21,Payments!$W$5:$W$254,0)),"") | E25: =IFERROR(INDEX(Payments!$T$5:$T$254,MATCH(21,Payments!$W$5:$W$254,0)),"") | F25: =IFERROR(INDEX(Payments!$P$5:$P$254,MATCH(21,Payments!$W$5:$W$254,0)),"")
D26: =IFERROR(INDEX(Payments!$A$5:$A$254,MATCH(22,Payments!$W$5:$W$254,0)),"") | E26: =IFERROR(INDEX(Payments!$T$5:$T$254,MATCH(22,Payments!$W$5:$W$254,0)),"") | F26: =IFERROR(INDEX(Payments!$P$5:$P$254,MATCH(22,Payments!$W$5:$W$254,0)),"")
D27: =IFERROR(INDEX(Payments!$A$5:$A$254,MATCH(23,Payments!$W$5:$W$254,0)),"") | E27: =IFERROR(INDEX(Payments!$T$5:$T$254,MATCH(23,Payments!$W$5:$W$254,0)),"") | F27: =IFERROR(INDEX(Payments!$P$5:$P$254,MATCH(23,Payments!$W$5:$W$254,0)),"")
D28: =IFERROR(INDEX(Payments!$A$5:$A$254,MATCH(24,Payments!$W$5:$W$254,0)),"") | E28: =IFERROR(INDEX(Payments!$T$5:$T$254,MATCH(24,Payments!$W$5:$W$254,0)),"") | F28: =IFERROR(INDEX(Payments!$P$5:$P$254,MATCH(24,Payments!$W$5:$W$254,0)),"")
D29: =IFERROR(INDEX(Payments!$A$5:$A$254,MATCH(25,Payments!$W$5:$W$254,0)),"") | E29: =IFERROR(INDEX(Payments!$T$5:$T$254,MATCH(25,Payments!$W$5:$W$254,0)),"") | F29: =IFERROR(INDEX(Payments!$P$5:$P$254,MATCH(25,Payments!$W$5:$W$254,0)),"")
D30: =IFERROR(INDEX(Payments!$A$5:$A$254,MATCH(26,Payments!$W$5:$W$254,0)),"") | E30: =IFERROR(INDEX(Payments!$T$5:$T$254,MATCH(26,Payments!$W$5:$W$254,0)),"") | F30: =IFERROR(INDEX(Payments!$P$5:$P$254,MATCH(26,Payments!$W$5:$W$254,0)),"")
D31: =IFERROR(INDEX(Payments!$A$5:$A$254,MATCH(27,Payments!$W$5:$W$254,0)),"") | E31: =IFERROR(INDEX(Payments!$T$5:$T$254,MATCH(27,Payments!$W$5:$W$254,0)),"") | F31: =IFERROR(INDEX(Payments!$P$5:$P$254,MATCH(27,Payments!$W$5:$W$254,0)),"")
D32: =IFERROR(INDEX(Payments!$A$5:$A$254,MATCH(28,Payments!$W$5:$W$254,0)),"") | E32: =IFERROR(INDEX(Payments!$T$5:$T$254,MATCH(28,Payments!$W$5:$W$254,0)),"") | F32: =IFERROR(INDEX(Payments!$P$5:$P$254,MATCH(28,Payments!$W$5:$W$254,0)),"")
D33: =IFERROR(INDEX(Payments!$A$5:$A$254,MATCH(29,Payments!$W$5:$W$254,0)),"") | E33: =IFERROR(INDEX(Payments!$T$5:$T$254,MATCH(29,Payments!$W$5:$W$254,0)),"") | F33: =IFERROR(INDEX(Payments!$P$5:$P$254,MATCH(29,Payments!$W$5:$W$254,0)),"")
D34: =IFERROR(INDEX(Payments!$A$5:$A$254,MATCH(30,Payments!$W$5:$W$254,0)),"") | E34: =IFERROR(INDEX(Payments!$T$5:$T$254,MATCH(30,Payments!$W$5:$W$254,0)),"") | F34: =IFERROR(INDEX(Payments!$P$5:$P$254,MATCH(30,Payments!$W$5:$W$254,0)),"")

Sheet How to use
A1: Club membership tracker
A2: A free template from ClubMon. Use it, change it and share it with other clubs.
A4: Before you start
A5: The grey rows on Members, Payments and Attendance are examples. Clear them and type your own.
A7: 1. Members
A8: One row per member. For children, the contact person is the parent or guardian.
A9: Type the date of birth as YYYY-MM-DD, for example 2014-03-21.
A10: Fill in Joined and Monthly fee. A member who joined mid year is only charged from the month they joined.
A11: When someone leaves, set Active to No. Do not delete the row, so their payment history stays.
A13: 2. Payments
A14: Set the year in cell B1. Pick each member in column A, then type what they paid under each month.
A15: Green means paid. Amber means pending for the current month. Red means overdue.
... A32: clubmon.com
